BEGIN:VCALENDAR
VERSION:2.0
PRODID:-//Squarespace Inc/Squarespace 6//v6//EN
BEGIN:VEVENT
UID:5a35db2a9140b76437de2571@squarespace.com
DTSTAMP:20171218T034719Z
DTSTART:20171215T230000Z
DTEND:20171216T010000Z
SUMMARY:Blue Light Disco!
END:VEVENT
END:VCALENDAR
