BEGIN:VCALENDAR
VERSION:2.0
PRODID:-//Squarespace Inc/Squarespace 6//v6//EN
BEGIN:VEVENT
UID:5a5beecc71c10bca132f790d@squarespace.com
DTSTAMP:20180114T235916Z
DTSTART:20180212T210000Z
DTEND:20180212T220000Z
SUMMARY:MEMBERS MONDAY MADNESS
END:VEVENT
END:VCALENDAR
