BEGIN:VCALENDAR
VERSION:2.0
PRODID:-//Squarespace Inc/Squarespace 6//v6//EN
BEGIN:VEVENT
UID:5a5beedc085229750fad7df1@squarespace.com
DTSTAMP:20180114T235932Z
DTSTART:20180219T210000Z
DTEND:20180219T220000Z
SUMMARY:MEMBERS MONDAY MADNESS
END:VEVENT
END:VCALENDAR
