BEGIN:VCALENDAR
VERSION:2.0
PRODID:-//Squarespace Inc/Squarespace 6//v6//EN
BEGIN:VEVENT
UID:5a5beeeae2c483cd4198f818@squarespace.com
DTSTAMP:20180114T235946Z
DTSTART:20180226T210000Z
DTEND:20180226T220000Z
SUMMARY:MEMBERS MONDAY MADNESS
END:VEVENT
END:VCALENDAR
