BEGIN:VCALENDAR
VERSION:2.0
PRODID:-//Squarespace Inc/Squarespace 6//v6//EN
BEGIN:VEVENT
UID:5a71337b0852295f5a268779@squarespace.com
DTSTAMP:20180131T030957Z
DTSTART:20180326T200000Z
DTEND:20180326T210000Z
SUMMARY:MEMBERS MONDAY MADNESS
END:VEVENT
END:VCALENDAR
