BEGIN:VCALENDAR
VERSION:2.0
PRODID:-//Squarespace Inc/Squarespace 6//v6//EN
BEGIN:VEVENT
UID:5a71336b0852295f5a268413@squarespace.com
DTSTAMP:20180131T030942Z
DTSTART:20180319T200000Z
DTEND:20180319T210000Z
SUMMARY:MEMBERS MONDAY MADNESS
END:VEVENT
END:VCALENDAR
