BEGIN:VCALENDAR
VERSION:2.0
PRODID:-//Squarespace Inc/Squarespace 6//v6//EN
BEGIN:VEVENT
UID:5a712f7a24a694cc88e02385@squarespace.com
DTSTAMP:20180131T025258Z
DTSTART:20180312T200000Z
DTEND:20180312T210000Z
SUMMARY:MEMBERS MONDAY MADNESS
END:VEVENT
END:VCALENDAR
