BEGIN:VCALENDAR
VERSION:2.0
PRODID:-//Squarespace Inc/Squarespace 6//v6//EN
BEGIN:VEVENT
UID:5a5beefb0d9297bb7c8f04a0@squarespace.com
DTSTAMP:20180131T025353Z
DTSTART:20180305T170000Z
DTEND:20180305T220000Z
SUMMARY:MEMBERS MONDAY MADNESS
END:VEVENT
END:VCALENDAR
