BEGIN:VCALENDAR
VERSION:2.0
PRODID:-//Squarespace Inc/Squarespace 6//v6//EN
BEGIN:VEVENT
UID:5a5bedd3652dea17cc302c97@squarespace.com
DTSTAMP:20180114T235908Z
DTSTART:20180205T210000Z
DTEND:20180205T220000Z
SUMMARY:MEMBERS MONDAY MADNESS
END:VEVENT
END:VCALENDAR
