BEGIN:VCALENDAR
VERSION:2.0
PRODID:-//Squarespace Inc/Squarespace 6//v6//EN
BEGIN:VEVENT
UID:5a373c3dc830258ccbc41fe5@squarespace.com
DTSTAMP:20180114T234648Z
DTSTART:20180115T210000Z
DTEND:20180115T220000Z
SUMMARY:MEMBERS MONDAY MADNESS
END:VEVENT
END:VCALENDAR
