BEGIN:VCALENDAR
VERSION:2.0
PRODID:-//Squarespace Inc/Squarespace 6//v6//EN
BEGIN:VEVENT
UID:5a373c4af9619a424b7bea94@squarespace.com
DTSTAMP:20180115T003447Z
DTSTART:20180122T210000Z
DTEND:20180122T220000Z
SUMMARY:MEMBERS MONDAY MADNESS
END:VEVENT
END:VCALENDAR
