BEGIN:VCALENDAR
VERSION:2.0
PRODID:-//Squarespace Inc/Squarespace 6//v6//EN
BEGIN:VEVENT
UID:5a373c58c830258ccbc423b4@squarespace.com
DTSTAMP:20180115T010044Z
DTSTART:20180129T210000Z
DTEND:20180129T220000Z
SUMMARY:MEMBERS MONDAY MADNESS
END:VEVENT
END:VCALENDAR
