BEGIN:VCALENDAR
VERSION:2.0
PRODID:-//Squarespace Inc/Squarespace 6//v6//EN
BEGIN:VEVENT
UID:5a373be8085229e36d0432bc@squarespace.com
DTSTAMP:20171218T035541Z
DTSTART:20180108T210000Z
DTEND:20180108T220000Z
SUMMARY:MEMBERS MONDAY MADNESS
END:VEVENT
END:VCALENDAR
