BEGIN:VCALENDAR
VERSION:2.0
PRODID:-//Squarespace Inc/Squarespace 6//v6//EN
BEGIN:VEVENT
UID:5a3739698165f5e58aa44442@squarespace.com
DTSTAMP:20171218T034347Z
DTSTART:20180121T235000Z
DTEND:20180122T005000Z
SUMMARY:SUNDAY NIGHT MONEY WHEEL
END:VEVENT
END:VCALENDAR
