BEGIN:VCALENDAR
VERSION:2.0
PRODID:-//Squarespace Inc/Squarespace 6//v6//EN
BEGIN:VEVENT
UID:5a3739ac24a6949ae307a749@squarespace.com
DTSTAMP:20171218T034458Z
DTSTART:20180111T235000Z
DTEND:20180112T005000Z
SUMMARY:WEDNESDAY NIGHT MONEY WHEEL
END:VEVENT
END:VCALENDAR
