BEGIN:VCALENDAR
VERSION:2.0
PRODID:-//Squarespace Inc/Squarespace 6//v6//EN
BEGIN:VEVENT
UID:5a7134580852295f5a26babf@squarespace.com
DTSTAMP:20180131T031335Z
DTSTART:20180318T225000Z
DTEND:20180318T235000Z
SUMMARY:SUNDAY NIGHT MONEY WHEEL
END:VEVENT
END:VCALENDAR
