BEGIN:VCALENDAR
VERSION:2.0
PRODID:-//Squarespace Inc/Squarespace 6//v6//EN
BEGIN:VEVENT
UID:5a7134658165f58f16913d44@squarespace.com
DTSTAMP:20180131T031349Z
DTSTART:20180325T225000Z
DTEND:20180325T235000Z
SUMMARY:SUNDAY NIGHT MONEY WHEEL
END:VEVENT
END:VCALENDAR
