BEGIN:VCALENDAR
VERSION:2.0
PRODID:-//Squarespace Inc/Squarespace 6//v6//EN
BEGIN:VEVENT
UID:5a71344bf9619acaaa8989fa@squarespace.com
DTSTAMP:20180131T031322Z
DTSTART:20180311T225000Z
DTEND:20180311T235000Z
SUMMARY:SUNDAY NIGHT MONEY WHEEL
END:VEVENT
END:VCALENDAR
