BEGIN:VCALENDAR
VERSION:2.0
PRODID:-//Squarespace Inc/Squarespace 6//v6//EN
BEGIN:VEVENT
UID:5a71342b0852295f5a26b037@squarespace.com
DTSTAMP:20180131T031257Z
DTSTART:20180304T235000Z
DTEND:20180305T005000Z
SUMMARY:SUNDAY NIGHT MONEY WHEEL
END:VEVENT
END:VCALENDAR
