BEGIN:VCALENDAR
VERSION:2.0
PRODID:-//Squarespace Inc/Squarespace 6//v6//EN
BEGIN:VEVENT
UID:5a37397c71c10b467b3c690c@squarespace.com
DTSTAMP:20171218T034405Z
DTSTART:20180128T235000Z
DTEND:20180129T005000Z
SUMMARY:SUNDAY NIGHT MONEY WHEEL
END:VEVENT
END:VCALENDAR
