BEGIN:VCALENDAR
VERSION:2.0
PRODID:-//Squarespace Inc/Squarespace 6//v6//EN
BEGIN:VEVENT
UID:5a5bed9a71c10bca132f47bd@squarespace.com
DTSTAMP:20180114T235410Z
DTSTART:20180222T235000Z
DTEND:20180223T005000Z
SUMMARY:THURSDAY NIGHT MONEY WHEEL
END:VEVENT
END:VCALENDAR
