BEGIN:VCALENDAR
VERSION:2.0
PRODID:-//Squarespace Inc/Squarespace 6//v6//EN
BEGIN:VEVENT
UID:5a5bece70d9297bb7c8eb016@squarespace.com
DTSTAMP:20180114T235115Z
DTSTART:20180215T235000Z
DTEND:20180216T005000Z
SUMMARY:THURSDAY NIGHT MONEY WHEEL
END:VEVENT
END:VCALENDAR
