BEGIN:VCALENDAR
VERSION:2.0
PRODID:-//Squarespace Inc/Squarespace 6//v6//EN
BEGIN:VEVENT
UID:5a7133e88165f58f169120cf@squarespace.com
DTSTAMP:20180131T031145Z
DTSTART:20180322T225000Z
DTEND:20180322T235000Z
SUMMARY:THURSDAY NIGHT MONEY WHEEL
END:VEVENT
END:VCALENDAR
