BEGIN:VCALENDAR
VERSION:2.0
PRODID:-//Squarespace Inc/Squarespace 6//v6//EN
BEGIN:VEVENT
UID:5a7133d90852295f5a269db4@squarespace.com
DTSTAMP:20180131T031130Z
DTSTART:20180315T225000Z
DTEND:20180315T235000Z
SUMMARY:THURSDAY NIGHT MONEY WHEEL
END:VEVENT
END:VCALENDAR
