BEGIN:VCALENDAR
VERSION:2.0
PRODID:-//Squarespace Inc/Squarespace 6//v6//EN
BEGIN:VEVENT
UID:5a7133c324a694cc88e1262b@squarespace.com
DTSTAMP:20180131T031115Z
DTSTART:20180308T235000Z
DTEND:20180309T005000Z
SUMMARY:THURSDAY NIGHT MONEY WHEEL
END:VEVENT
END:VCALENDAR
