BEGIN:VCALENDAR
VERSION:2.0
PRODID:-//Squarespace Inc/Squarespace 6//v6//EN
BEGIN:VEVENT
UID:5a7133f8e2c483d0961b4d78@squarespace.com
DTSTAMP:20180131T031202Z
DTSTART:20180329T225000Z
DTEND:20180329T235000Z
SUMMARY:THURSDAY NIGHT MONEY WHEEL
END:VEVENT
END:VCALENDAR
