BEGIN:VCALENDAR
VERSION:2.0
PRODID:-//Squarespace Inc/Squarespace 6//v6//EN
BEGIN:VEVENT
UID:5a5bed0cc83025289a9205c8@squarespace.com
DTSTAMP:20180114T235200Z
DTSTART:20180301T235000Z
DTEND:20180302T005000Z
SUMMARY:THURSDAY NIGHT MONEY WHEEL
END:VEVENT
END:VCALENDAR
