BEGIN:VCALENDAR
VERSION:2.0
PRODID:-//Squarespace Inc/Squarespace 6//v6//EN
BEGIN:VEVENT
UID:5a5becf9f9619a9a19046f00@squarespace.com
DTSTAMP:20180114T235130Z
DTSTART:20180125T235000Z
DTEND:20180126T005000Z
SUMMARY:THURSDAY NIGHT MONEY WHEEL
END:VEVENT
END:VCALENDAR
