BEGIN:VCALENDAR
VERSION:2.0
PRODID:-//Squarespace Inc/Squarespace 6//v6//EN
BEGIN:VEVENT
UID:5a5bed70f9619a9a19048380@squarespace.com
DTSTAMP:20180114T235332Z
DTSTART:20180201T235000Z
DTEND:20180202T005000Z
SUMMARY:THURSDAY NIGHT MONEY WHEEL
END:VEVENT
END:VCALENDAR
