BEGIN:VCALENDAR
VERSION:2.0
PRODID:-//Squarespace Inc/Squarespace 6//v6//EN
BEGIN:VEVENT
UID:5a5becd3652dea17cc30061b@squarespace.com
DTSTAMP:20180114T235057Z
DTSTART:20180208T235000Z
DTEND:20180209T005000Z
SUMMARY:THURSDAY NIGHT MONEY WHEEL
END:VEVENT
END:VCALENDAR
