BEGIN:VCALENDAR
VERSION:2.0
PRODID:-//Squarespace Inc/Squarespace 6//v6//EN
BEGIN:VEVENT
UID:5a3739ccc830258ccbc3cef3@squarespace.com
DTSTAMP:20180114T234435Z
DTSTART:20180118T235000Z
DTEND:20180119T005000Z
SUMMARY:THURSDAY NIGHT MONEY WHEEL
END:VEVENT
END:VCALENDAR
