BEGIN:VCALENDAR
VERSION:2.0
PRODID:-//Squarespace Inc/Squarespace 6//v6//EN
BEGIN:VEVENT
UID:5a37399571c10b467b3c6c7d@squarespace.com
DTSTAMP:20171227T012919Z
DTSTART:20180104T235000Z
DTEND:20180105T005000Z
SUMMARY:THURSDAY NIGHT MONEY WHEEL
END:VEVENT
END:VCALENDAR
