BEGIN:VCALENDAR
VERSION:2.0
PRODID:-//Squarespace Inc/Squarespace 6//v6//EN
BEGIN:VEVENT
UID:5a37395741920241eba9b6bd@squarespace.com
DTSTAMP:20180114T234742Z
DTSTART:20180114T235000Z
DTEND:20180115T005000Z
SUMMARY:SUNDAY NIGHT MONEY WHEEL
END:VEVENT
END:VCALENDAR
