BEGIN:VCALENDAR
VERSION:2.0
PRODID:-//Squarespace Inc/Squarespace 6//v6//EN
BEGIN:VEVENT
UID:5a37374b9140b7643701a3bd@squarespace.com
DTSTAMP:20171218T034319Z
DTSTART:20180107T235000Z
DTEND:20180108T005000Z
SUMMARY:SUNDAY NIGHT MONEY WHEEL
END:VEVENT
END:VCALENDAR
