BEGIN:VCALENDAR
VERSION:2.0
PRODID:-//Squarespace Inc/Squarespace 6//v6//EN
BEGIN:VEVENT
UID:5a35d77271c10b467b185a6a@squarespace.com
DTSTAMP:20171217T025120Z
DTSTART:20171223T010000Z
DTEND:20171223T040000Z
SUMMARY:MUSIC by Toucan Rock
END:VEVENT
END:VCALENDAR
