BEGIN:VCALENDAR
VERSION:2.0
PRODID:-//Squarespace Inc/Squarespace 6//v6//EN
BEGIN:VEVENT
UID:5a35d81541920241eb858ec5@squarespace.com
DTSTAMP:20171217T023656Z
DTSTART:20171224T010000Z
DTEND:20171224T040000Z
SUMMARY:MUSIC by MICK TENACE
END:VEVENT
END:VCALENDAR
