BEGIN:VCALENDAR
VERSION:2.0
PRODID:-//Squarespace Inc/Squarespace 6//v6//EN
BEGIN:VEVENT
UID:5a35d85aec212d303213a3cc@squarespace.com
DTSTAMP:20171217T023852Z
DTSTART:20171230T010000Z
DTEND:20171230T040000Z
SUMMARY:Music By the REgular Boys
END:VEVENT
END:VCALENDAR
