BEGIN:VCALENDAR
VERSION:2.0
PRODID:-//Squarespace Inc/Squarespace 6//v6//EN
BEGIN:VEVENT
UID:5a35d8f68165f5e58a804d95@squarespace.com
DTSTAMP:20171217T024159Z
DTSTART:20171231T010000Z
DTEND:20171231T040000Z
SUMMARY:Music by Take Cover
END:VEVENT
END:VCALENDAR
