BEGIN:VCALENDAR
VERSION:2.0
PRODID:-//Squarespace Inc/Squarespace 6//v6//EN
BEGIN:VEVENT
UID:5a35d9c041920241eb85b88d@squarespace.com
DTSTAMP:20171218T034635Z
DTSTART:20180101T010000Z
DTEND:20180101T050100Z
SUMMARY:NYE MUSIC Glory Daze
END:VEVENT
END:VCALENDAR
