BEGIN:VCALENDAR
VERSION:2.0
PRODID:-//Squarespace Inc/Squarespace 6//v6//EN
BEGIN:VEVENT
UID:5a35d6efec212d3032138031@squarespace.com
DTSTAMP:20180111T053851Z
DTSTART:20180113T010000Z
DTEND:20180113T040000Z
SUMMARY:MUSIC by The Overtime Duo
END:VEVENT
END:VCALENDAR
