BEGIN:VCALENDAR
VERSION:2.0
PRODID:-//Squarespace Inc/Squarespace 6//v6//EN
BEGIN:VEVENT
UID:5a373647c830258ccbc3535f@squarespace.com
DTSTAMP:20171218T033057Z
DTSTART:20180114T010000Z
DTEND:20180114T040000Z
SUMMARY:MUSIC BY ALL NIGHT LONG
END:VEVENT
END:VCALENDAR
