BEGIN:VCALENDAR
VERSION:2.0
PRODID:-//Squarespace Inc/Squarespace 6//v6//EN
BEGIN:VEVENT
UID:5a3736b0c830258ccbc36333@squarespace.com
DTSTAMP:20171218T033417Z
DTSTART:20180117T160000Z
DTEND:20180117T183000Z
SUMMARY:MARKET DAY WITH MICK TENACE
END:VEVENT
END:VCALENDAR
