BEGIN:VCALENDAR
VERSION:2.0
PRODID:-//Squarespace Inc/Squarespace 6//v6//EN
BEGIN:VEVENT
UID:5a37343f41920241eba909cf@squarespace.com
DTSTAMP:20171218T032519Z
DTSTART:20180120T010000Z
DTEND:20180120T040000Z
SUMMARY:MUSIC BY THE HOFFMANS
END:VEVENT
END:VCALENDAR
