BEGIN:VCALENDAR
VERSION:2.0
PRODID:-//Squarespace Inc/Squarespace 6//v6//EN
BEGIN:VEVENT
UID:5a37352e71c10b467b3bd4fa@squarespace.com
DTSTAMP:20171218T032710Z
DTSTART:20180121T010000Z
DTEND:20180121T040000Z
SUMMARY:MUSIC BY NEV MILNE
END:VEVENT
END:VCALENDAR
