BEGIN:VCALENDAR
VERSION:2.0
PRODID:-//Squarespace Inc/Squarespace 6//v6//EN
BEGIN:VEVENT
UID:5a4c2a0a4192021bcbbd00d8@squarespace.com
DTSTAMP:20180103T005813Z
DTSTART:20180126T223000Z
DTEND:20180127T023000Z
SUMMARY:Outdoor Terrace Australia Day (Night) Music
END:VEVENT
END:VCALENDAR
