BEGIN:VCALENDAR
VERSION:2.0
PRODID:-//Squarespace Inc/Squarespace 6//v6//EN
BEGIN:VEVENT
UID:5a3735e5e4966b79a0d0a137@squarespace.com
DTSTAMP:20171218T032953Z
DTSTART:20180128T010000Z
DTEND:20180128T040000Z
SUMMARY:MUSIC BY HIGHWAY 39
END:VEVENT
END:VCALENDAR
