BEGIN:VCALENDAR
VERSION:2.0
PRODID:-//Squarespace Inc/Squarespace 6//v6//EN
BEGIN:VEVENT
UID:5a35d53c53450a1651d97f88@squarespace.com
DTSTAMP:20171217T023534Z
DTSTART:20180106T010000Z
DTEND:20180106T040000Z
SUMMARY:LIVE MUSIC by Mark Haze
GEO:-35.99531;146.387064
LOCATION:Corowa RSL Club\, 30 Betterment Parade\, Corowa\, NSW\, 2646\, Aus
 tralia
END:VEVENT
END:VCALENDAR
