BEGIN:VCALENDAR
VERSION:2.0
PRODID:-//Squarespace Inc/Squarespace 6//v6//EN
BEGIN:VEVENT
UID:5a35d6199140b76437dd9ed9@squarespace.com
DTSTAMP:20171226T222207Z
DTSTART:20180107T010000Z
DTEND:20180107T040000Z
SUMMARY:MUSIC by ANDREW WISHART
GEO:-35.99531;146.387064
LOCATION:Corowa RSL CLUB\, 30 Betterment Parade\, Corowa\, NSW\, 2646\, Aus
 tralia
END:VEVENT
END:VCALENDAR
