BEGIN:VCALENDAR
VERSION:2.0
PRODID:-//Squarespace Inc/Squarespace 6//v6//EN
BEGIN:VEVENT
UID:5a865fa88165f5f7f8e5a8b8@squarespace.com
DTSTAMP:20180411T064039Z
DTSTART:20180413T220000Z
DTEND:20180414T000000Z
SUMMARY:Blue Light Disco
END:VEVENT
END:VCALENDAR
