BEGIN:VCALENDAR
VERSION:2.0
PRODID:-//Squarespace Inc/Squarespace 6//v6//EN
BEGIN:VEVENT
UID:5a86601ee2c48398a10df4a9@squarespace.com
DTSTAMP:20180216T043804Z
DTSTART:20180518T220000Z
DTEND:20180519T000000Z
SUMMARY:Blue Light Disco
END:VEVENT
END:VCALENDAR
